BEGIN:VCALENDAR
VERSION:2.0
PRODID:-//Gemeinde Waldfeucht - ECPv6.15.18//NONSGML v1.0//EN
CALSCALE:GREGORIAN
METHOD:PUBLISH
X-ORIGINAL-URL:https://www.waldfeucht.de
X-WR-CALDESC:Veranstaltungen für Gemeinde Waldfeucht
REFRESH-INTERVAL;VALUE=DURATION:PT1H
X-Robots-Tag:noindex
X-PUBLISHED-TTL:PT1H
BEGIN:VTIMEZONE
TZID:Europe/Berlin
BEGIN:DAYLIGHT
TZOFFSETFROM:+0100
TZOFFSETTO:+0200
TZNAME:CEST
DTSTART:20250330T010000
END:DAYLIGHT
BEGIN:STANDARD
TZOFFSETFROM:+0200
TZOFFSETTO:+0100
TZNAME:CET
DTSTART:20251026T010000
END:STANDARD
BEGIN:DAYLIGHT
TZOFFSETFROM:+0100
TZOFFSETTO:+0200
TZNAME:CEST
DTSTART:20260329T010000
END:DAYLIGHT
BEGIN:STANDARD
TZOFFSETFROM:+0200
TZOFFSETTO:+0100
TZNAME:CET
DTSTART:20261025T010000
END:STANDARD
BEGIN:DAYLIGHT
TZOFFSETFROM:+0100
TZOFFSETTO:+0200
TZNAME:CEST
DTSTART:20270328T010000
END:DAYLIGHT
BEGIN:STANDARD
TZOFFSETFROM:+0200
TZOFFSETTO:+0100
TZNAME:CET
DTSTART:20271031T010000
END:STANDARD
END:VTIMEZONE
BEGIN:VEVENT
DTSTART;VALUE=DATE:20260430
DTEND;VALUE=DATE:20260501
DTSTAMP:20260423T011758
CREATED:20260202T124211Z
LAST-MODIFIED:20260202T124211Z
UID:152383-1777507200-1777593599@www.waldfeucht.de
SUMMARY:Maibaumaufstellen in der Gemeinde Waldfeucht
DESCRIPTION:Maibaumaufstellen\n-Dorfplatz Bocket\n– Vorplatz Kirche Braunsrath\n– Marktplatz Haaren\n-Vorplatz OASE Obspringen\n– Marktplatz Waldfeucht
URL:https://www.waldfeucht.de/veranstaltung/maibaumaufstellen-in-der-gemeinde-waldfeucht/
CATEGORIES:Kinder und Familien,Kultur,Musik
END:VEVENT
END:VCALENDAR